BEGIN:VCALENDAR
VERSION:2.0
PRODID:-//eventon.com NONSGML v1.0//EN
CALSCALE:GREGORIAN
METHOD:PUBLISH
BEGIN:VEVENT
UID:69e737360c069
DTSTAMP:20260421T083710Z
DTSTART:20220530T194200Z
DTEND:20220601T194200Z
LOCATION:Abidjan\,  Côte d&#039;Ivoire
SUMMARY:SITIC AFRICA Abidjan
DESCRIPTION:Dans sa sixième édition\,  SITIC AFRICA est désormais l’
 événement incontournable pour les pionniers des TIC\,  les chefs d’ent
 reprises Africaines\,  les professionnels de l’informatique et les décid
 eurs qui viennent partager leurs expériences\,  prendre part des discussio
 ns et qui sont à la recherche de nouvelles opportunités de coopération n
 on traditionnelle. SITIC AFRICA se veut être la plate-forme[..]\nhttps:/
 /infranum.fr/events/sitic-africa-abidjan/
URL:https://infranum.fr/events/sitic-africa-abidjan/
END:VEVENT
END:VCALENDAR