BEGIN:VCALENDAR
VERSION:2.0
PRODID:-//eventon.com NONSGML v1.0//EN
CALSCALE:GREGORIAN
METHOD:PUBLISH
BEGIN:VEVENT
UID:69e4d02fdb288
DTSTAMP:20260419T125303Z
DTSTART:20250916T153000Z
DTEND:20250917T215900Z
LOCATION:
SUMMARY:UTNT 2025 à Dijon
DESCRIPTION:\nhttps://infranum.fr/events/utnt-2025/
URL:https://infranum.fr/events/utnt-2025/
END:VEVENT
END:VCALENDAR