BEGIN:VCALENDAR
VERSION:2.0
PRODID:-//eventon.com NONSGML v1.0//EN
CALSCALE:GREGORIAN
METHOD:PUBLISH
BEGIN:VEVENT
UID:69eae4637eefb
DTSTAMP:20260424T033251Z
DTSTART:20250320T161300Z
DTEND:20250320T161300Z
LOCATION:Les Franciscaines 145b Avenue de la République Deauville\,  14800 France
SUMMARY:Etats Généraux des RIP
DESCRIPTION:\nhttps://infranum.fr/events/etats-generaux-des-rip-6/
URL:https://infranum.fr/events/etats-generaux-des-rip-6/
END:VEVENT
END:VCALENDAR