BEGIN:VCALENDAR
VERSION:2.0
PRODID:-//eventon.com NONSGML v1.0//EN
CALSCALE:GREGORIAN
METHOD:PUBLISH
BEGIN:VEVENT
UID:69e87d54623b9
DTSTAMP:20260422T074836Z
DTSTART:20240325
DTEND:20240326
LOCATION:Paris Nord Villepinte
SUMMARY:Global Industrie
DESCRIPTION:\nhttps://infranum.fr/events/global-industrie/
URL:https://infranum.fr/events/global-industrie/
END:VEVENT
END:VCALENDAR